BEGIN:VCALENDAR
VERSION:2.0
PRODID:spatie/icalendar-generator
NAME:Düsseldorfer Jonges
X-WR-CALNAME:Düsseldorfer Jonges
BEGIN:VTIMEZONE
TZID:Europe/Berlin
BEGIN:STANDARD
DTSTART:20241027T030000
TZOFFSETFROM:+0200
TZOFFSETTO:+0100
END:STANDARD
BEGIN:DAYLIGHT
DTSTART:20250330T020000
TZOFFSETFROM:+0100
TZOFFSETTO:+0200
END:DAYLIGHT
END:VTIMEZONE
BEGIN:VTIMEZONE
TZID:UTC
BEGIN:STANDARD
DTSTART:20240224T195417
TZOFFSETFROM:+0000
TZOFFSETTO:+0000
END:STANDARD
END:VTIMEZONE
BEGIN:VEVENT
UID:1361
DTSTAMP:20241120T195417Z
DTSTART;TZID=Europe/Berlin:20250218T200000
DTEND;TZID=Europe/Berlin:20250218T210000
SUMMARY:Presserückblick | Impulsvortrag: Hochschule Düsseldorf
DESCRIPTION:Presserückblick \nReferent:\nJoachim Umbach\, Initiator RhineC
 leanUp | \n\nImpulsvortrag:  Hochschule Düsseldorf\nReferent:\nProf. Sabi
 ne Krieg\, Hochschule Dekanat Lehr- und Forschungsgebiet Retail Design
IMAGE;VALUE=URI:https://www.duesseldorferjonges.de/media_thumbs/cms/d62ab72
 3-b0ba-47fe-b5de-149edabc2228/326924837-1359467254896803-89209013713882191
 13-n.jpg/6ce39ca0aa66837a36ec35b52c1d5766.jpg?q=95&fit=max&crop=1200%2C160
 0%2C0%2C0&w=500&s=4f20252321d1c419501a4c2ad9b63353
LOCATION:Henkel Saal\, Ratinger Str. 25\, 40213 Düsseldorf
END:VEVENT
END:VCALENDAR