BEGIN:VCALENDAR
VERSION:2.0
PRODID:spatie/icalendar-generator
NAME:Düsseldorfer Jonges
X-WR-CALNAME:Düsseldorfer Jonges
BEGIN:VTIMEZONE
TZID:Europe/Berlin
BEGIN:STANDARD
DTSTART:20241027T030000
TZOFFSETFROM:+0200
TZOFFSETTO:+0100
END:STANDARD
BEGIN:DAYLIGHT
DTSTART:20250330T020000
TZOFFSETFROM:+0100
TZOFFSETTO:+0200
END:DAYLIGHT
END:VTIMEZONE
BEGIN:VTIMEZONE
TZID:UTC
BEGIN:STANDARD
DTSTART:20240224T200232
TZOFFSETFROM:+0000
TZOFFSETTO:+0000
END:STANDARD
END:VTIMEZONE
BEGIN:VEVENT
UID:1370
DTSTAMP:20241120T200232Z
DTSTART;TZID=Europe/Berlin:20250422T200000
DTEND;TZID=Europe/Berlin:20250422T210000
SUMMARY:Ostereierkippen und Vorstellung der Kandidaten für die Vorstandswa
 hl
DESCRIPTION:Ostereierkippen und Vorstellung der Kandidaten für die Vorstan
 dswahl\n\nAlle Kandidaten\, die zur Wahl am 29. April stehen\, präsentier
 en sich kurz auf der Bühne und stellen sich den anwesenden Heimatfreunden
  persönlich vor.
IMAGE;VALUE=URI:https://www.duesseldorferjonges.de/media_thumbs/cms/f060e99
 a-e276-4928-baed-b0995032a667/eierhaerten.jpg/e522fb8b2d1dc543844471ae65dd
 a232.jpg?q=95&fit=max&crop=732%2C500%2C0%2C0&w=500&s=4a18f6f71ba488c6a3083
 b439a9ce960
LOCATION:Henkel Saal\, Ratinger Str. 25\, 40213 Düsseldorf
END:VEVENT
END:VCALENDAR