BEGIN:VCALENDAR
VERSION:2.0
PRODID:spatie/icalendar-generator
NAME:Düsseldorfer Jonges
X-WR-CALNAME:Düsseldorfer Jonges
BEGIN:VTIMEZONE
TZID:Europe/Berlin
BEGIN:STANDARD
DTSTART:20241027T030000
TZOFFSETFROM:+0200
TZOFFSETTO:+0100
END:STANDARD
BEGIN:DAYLIGHT
DTSTART:20250330T020000
TZOFFSETFROM:+0100
TZOFFSETTO:+0200
END:DAYLIGHT
BEGIN:STANDARD
DTSTART:20251026T030000
TZOFFSETFROM:+0200
TZOFFSETTO:+0100
END:STANDARD
END:VTIMEZONE
BEGIN:VTIMEZONE
TZID:UTC
BEGIN:STANDARD
DTSTART:20240224T200619
TZOFFSETFROM:+0000
TZOFFSETTO:+0000
END:STANDARD
END:VTIMEZONE
BEGIN:VEVENT
UID:1375
DTSTAMP:20241120T200619Z
DTSTART;TZID=Europe/Berlin:20250527T200000
DTEND;TZID=Europe/Berlin:20250527T210000
SUMMARY:Healthy Longevity: Hype oder Hope?
DESCRIPTION:Healthy Longevity: Hype oder Hope?\n\nReferent:\nPROF. DR. UWE
  NIXDORFF\, Internist\, Kardiologe und Sportmedizinier
IMAGE;VALUE=URI:https://www.duesseldorferjonges.de/media_thumbs/cms/0942775
 7-965f-46b3-847d-1c7f6f2803e0/screenshot-2025-05-25-203511.jpg/4f2643b2844
 3d3371b1a2f382974e09a.jpg?q=95&fit=max&crop=543%2C479%2C0%2C0&w=500&s=e479
 701758d56650d76f1994eaadf77f
LOCATION:Henkel Saal\, Ratinger Str. 25\, 40213 Düsseldorf
END:VEVENT
END:VCALENDAR