BEGIN:VCALENDAR
VERSION:2.0
PRODID:spatie/icalendar-generator
NAME:Düsseldorfer Jonges
X-WR-CALNAME:Düsseldorfer Jonges
BEGIN:VTIMEZONE
TZID:Europe/Berlin
BEGIN:STANDARD
DTSTART:20251026T030000
TZOFFSETFROM:+0200
TZOFFSETTO:+0100
END:STANDARD
BEGIN:DAYLIGHT
DTSTART:20260329T020000
TZOFFSETFROM:+0100
TZOFFSETTO:+0200
END:DAYLIGHT
END:VTIMEZONE
BEGIN:VTIMEZONE
TZID:UTC
BEGIN:STANDARD
DTSTART:20250427T192444
TZOFFSETFROM:+0000
TZOFFSETTO:+0000
END:STANDARD
END:VTIMEZONE
BEGIN:VEVENT
UID:1422
DTSTAMP:20260122T192444Z
DTSTART;TZID=Europe/Berlin:20260331T200000
DTEND;TZID=Europe/Berlin:20260331T210000
SUMMARY:Bayer:  Ein LifeScience-Unternehmen in Bewegung | Impulsvortrag: B
 ewerbung für Olympische und Paralympische Spiele Rhein und Ruhr
DESCRIPTION:Bayer: Ein LifeScience-Unternehmen in Bewegung | \nDer Leverkus
 ener Bayer-Konzern ist seit mehr als 160 Jahren einer der industriellen Le
 uchttürme des Rheinlands und ein bedeutender Arbeitgeber. In seiner lange
 n Geschichte hat sich das Unternehmen immer wieder verändert - aktuell mi
 t einem neuartigen Organisationsmodell. | \n\nReferent: \nMarkus Siebenmor
 gen\,  Pressesprecher der Bayer AG | | \n\nImpulsvortrag:\nBewerbung für 
 Olympische und Paralympische Spiele Rhein und Ruhr | \n\nReferent:\nBernha
 rd Schwank\, Abteilungsleiter Sport und Ehrenamt aus der Staatskanzlei des
  Landes NRW\nPeer Steinbrück\, Mitglied im Mannschaftsrat der Bewerbung u
 m Olympische und Paralympische Spiele und Ministerpräsident a.d.
IMAGE;VALUE=URI:https://www.duesseldorferjonges.de/media_thumbs/cms/3b62850
 8-15c7-44be-81e9-31c7324dea2f/bd608ec8-4ac6-4bd0-92ab-0f3234c9e04e.jpeg/20
 a7d165505ca3cec1cbfac76d11e962.jpeg?q=95&fit=max&crop=1920%2C2808%2C0%2C0&
 w=500&s=93982a75cb91e89bc757c0eed56c0102
LOCATION:Henkel Saal\, Ratinger Str. 25\, 40213 Düsseldorf
END:VEVENT
END:VCALENDAR