BEGIN:VCALENDAR
VERSION:2.0
PRODID:spatie/icalendar-generator
NAME:Düsseldorfer Jonges
X-WR-CALNAME:Düsseldorfer Jonges
BEGIN:VTIMEZONE
TZID:Europe/Berlin
BEGIN:STANDARD
DTSTART:20251026T030000
TZOFFSETFROM:+0200
TZOFFSETTO:+0100
END:STANDARD
BEGIN:DAYLIGHT
DTSTART:20260329T020000
TZOFFSETFROM:+0100
TZOFFSETTO:+0200
END:DAYLIGHT
BEGIN:STANDARD
DTSTART:20261025T030000
TZOFFSETFROM:+0200
TZOFFSETTO:+0100
END:STANDARD
END:VTIMEZONE
BEGIN:VTIMEZONE
TZID:UTC
BEGIN:STANDARD
DTSTART:20250427T195015
TZOFFSETFROM:+0000
TZOFFSETTO:+0000
END:STANDARD
END:VTIMEZONE
BEGIN:VEVENT
UID:1425
DTSTAMP:20260122T195015Z
DTSTART;TZID=Europe/Berlin:20260602T200000
DTEND;TZID=Europe/Berlin:20260602T210000
SUMMARY:Konsularischer Abend - in Planung -
DESCRIPTION:Konsularischer Abend - in Planung -
IMAGE;VALUE=URI:https://www.duesseldorferjonges.de/media_thumbs/cms/cd1a2a4
 8-d50e-4009-aad6-c1f0b9692201/screenshot-2026-04-18-181654.jpg/f6efe35532f
 31612e817309ede616ca7.jpg?q=95&fit=max&crop=805%2C395%2C0%2C0&w=500&s=6960
 1205ef1c9e3400c7c1da53a859f4
LOCATION:Henkel Saal\, Ratinger Str. 25\, 40213 Düsseldorf
END:VEVENT
END:VCALENDAR